BEGIN:VCALENDAR
VERSION:2.0
PRODID:-//Library Market//iCal Export//EN
BEGIN:VEVENT
SUMMARY:Barnyard Tales at the Cecil County Fair
UID:117401
DTSTAMP:20260424T041700Z
DTSTART:20260727T160000Z
DTEND:20260727T180000Z
LOCATION:Cecil County Fair, 4640 Telegraph Road, Elkton, MD 21921, United 
 States
ROOM: Barnyard Tales at the Cecil County Fair
DESCRIPTION:Practice your reading at this year&#039;s Children&#039;s Day 
 at the Cecil County Fair! Stop by the 4H Pavilion to read a book to a bunn
 y, goat, or one of the other barnyard animals. Then, count your reading to
 ward CCPL&#039;s Summer Reading &amp; Learning Program. Want to earn a fr
 ee ticket to the fair? Find more information on our Summer Reading page- h
 ttps://www.cecilcountylibrary.org/events/summer-reading.  
URL:https://www.cecilcountylibrary.org/event/barnyard-tales-cecil-county-f
 air-117401
END:VEVENT
END:VCALENDAR
