BEGIN:VCALENDAR
VERSION:2.0
PRODID:-//Library Market//iCal Export//EN
BEGIN:VEVENT
SUMMARY:Bookmobile at Cecil County Stormwater Management Division&#039;s 1
 7th Annual Cecil County Wade-In
UID:117407
DTSTAMP:20260423T230400Z
DTSTART:20260613T140000Z
DTEND:20260613T180000Z
LOCATION:Elk Neck State Park, 4395 Turkey Point Rd, North East, MD 21901, 
 United States
ROOM: Bookmobile at Cecil County Stormwater Management Division&#039;s 17t
 h Annual Cecil County Wade-In
DESCRIPTION:Visit our Bookmobile to browse and borrow from a wide selectio
 n of books, movies, and more, at local events! Please be aware that arriva
 l times may vary by up to 30 minutes due to road conditions or other unfor
 eseen circumstances. Additionally, stops may be subject to change or cance
 llation due to limited staffing or unexpected events. No library card need
 ed.For more information about the Cecil County Stormwater Management Divis
 ion&#039;s 17th Annual Cecil County Wade-In visit https://www.facebook.com
 /share/1F5rM4YXMs/ 
URL:https://www.cecilcountylibrary.org/event/bookmobile-cecil-county-storm
 water-management-divisions-17th-annual-cecil-county-wade-117407
END:VEVENT
END:VCALENDAR
