BEGIN:VCALENDAR
VERSION:2.0
PRODID:-//Library Market//iCal Export//EN
BEGIN:VEVENT
SUMMARY:Grand Opening! CCPL Story Trail at North East Community Park
UID:118269
DTSTAMP:20260421T070400Z
DTSTART:20260410T220000Z
DTEND:20260410T230000Z
LOCATION:North East Community Park, 300 Cherry St., North East, MD 21901, 
 United States
ROOM: Grand Opening! CCPL Story Trail at North East Community Park
DESCRIPTION:Celebrate the opening of the NEW Story Trail at the North East
  Community Park! Enjoy a guided preview of the trail, popcorn, crafts, and
  other family-friendly activities. In partnership with the Town of North E
 ast.The celebration will begin with a ribbon cutting in front of the playg
 round.   Registration optional to receive an event reminder. 
URL:https://www.cecilcountylibrary.org/event/grand-opening-ccpl-story-trai
 l-north-east-park-118269
END:VEVENT
END:VCALENDAR
