BEGIN:VCALENDAR
VERSION:2.0
PRODID:-//Library Market//iCal Export//EN
BEGIN:VEVENT
SUMMARY:Family StoryTime
UID:118465
DTSTAMP:20260424T020700Z
DTSTART:20260728T143000Z
DTEND:20260728T153000Z
LOCATION:2527 Augustine Herman Highway, Chesapeake City, MD 21915, United 
 States
ROOM: Chesapeake City Meeting Room
DESCRIPTION:CCPL StoryTimes feature stories, rhymes, music, and movement a
 ctivities. For families with children ages birth-5. Perfect for families w
 ith children of multiple ages!To attend multiple sessions, please register
  for each event.
URL:https://www.cecilcountylibrary.org/event/family-storytime-118465
END:VEVENT
END:VCALENDAR
