BEGIN:VCALENDAR
VERSION:2.0
PRODID:-//Library Market//iCal Export//EN
BEGIN:VEVENT
SUMMARY:Family StoryTime
UID:118766
DTSTAMP:20260424T021900Z
DTSTART:20260708T140000Z
DTEND:20260708T144500Z
LOCATION:North East Branch, 485 Mauldin Avenue, North East, MD 21901, Unit
 ed States
ROOM: North East Storytime Room
DESCRIPTION:CCPL StoryTimes feature stories, rhymes, music, and play! For 
 families with children ages birth-5.Registration opens 2 weeks prior to ea
 ch date.
URL:https://www.cecilcountylibrary.org/event/family-storytime-118766
END:VEVENT
END:VCALENDAR
