BEGIN:VCALENDAR
VERSION:2.0
PRODID:-//Library Market//iCal Export//EN
BEGIN:VEVENT
SUMMARY:Preschool StoryTime
UID:118774
DTSTAMP:20260424T020700Z
DTSTART:20260723T140000Z
DTEND:20260723T144500Z
LOCATION:North East Branch, 485 Mauldin Avenue, North East, MD 21901, Unit
 ed States
ROOM: North East Storytime Room
DESCRIPTION:CCPL StoryTimes feature stories, rhymes, music, and play! Comp
 lete a themed craft each week. For families with children ages 3 - 5. Reg
 istration opens 2 weeks prior to each date.
URL:https://www.cecilcountylibrary.org/event/preschool-storytime-118774
END:VEVENT
END:VCALENDAR
