BEGIN:VCALENDAR
VERSION:2.0
PRODID:-//Library Market//iCal Export//EN
BEGIN:VEVENT
SUMMARY:Sensory StoryTime
UID:118777
DTSTAMP:20260424T010600Z
DTSTART:20260626T140000Z
DTEND:20260626T144500Z
LOCATION:North East Branch, 485 Mauldin Avenue, North East, MD 21901, Unit
 ed States
ROOM: North East Storytime Room
DESCRIPTION:Experience interactive stories, vibrant visuals, flexible move
 ments, and calming sensory experiences in our inclusive program, designed 
 for children with sensory processing needs. This month, hear from Freedom 
 Hills Therapeutic Riding. Ages 2-5.Registration opens two weeks prior to t
 he program date. 
URL:https://www.cecilcountylibrary.org/event/sensory-storytime-118777
END:VEVENT
END:VCALENDAR
