BEGIN:VCALENDAR
VERSION:2.0
PRODID:-//Library Market//iCal Export//EN
BEGIN:VEVENT
SUMMARY:Sensory StoryTime
UID:118778
DTSTAMP:20260424T041700Z
DTSTART:20260724T140000Z
DTEND:20260724T144500Z
LOCATION:North East Branch, 485 Mauldin Avenue, North East, MD 21901, Unit
 ed States
ROOM: North East Storytime Room
DESCRIPTION:Experience interactive stories, vibrant visuals, flexible move
 ments, and calming sensory experiences in our inclusive program, designed 
 for children with sensory processing needs. Ages 2-5.Registration opens tw
 o weeks prior to the program date. 
URL:https://www.cecilcountylibrary.org/event/sensory-storytime-118778
END:VEVENT
END:VCALENDAR
