BEGIN:VCALENDAR
VERSION:2.0
PRODID:-//Library Market//iCal Export//EN
BEGIN:VEVENT
SUMMARY:ABC...Come Play with Me: Colors All Around
UID:118795
DTSTAMP:20260424T034000Z
DTSTART:20260711T150000Z
DTEND:20260711T154500Z
LOCATION:North East Branch, 485 Mauldin Avenue, North East, MD 21901, Unit
 ed States
ROOM: North East Storytime Room
DESCRIPTION:A themed playtime emphasizing pre-literacy games, activities a
 nd toys. For families with children ages birth - 5. Registration opens 2 
 weeks prior to the program date.
URL:https://www.cecilcountylibrary.org/event/abccome-play-me-colors-all-ar
 ound-118795
END:VEVENT
END:VCALENDAR
