BEGIN:VCALENDAR
VERSION:2.0
PRODID:-//Library Market//iCal Export//EN
BEGIN:VEVENT
SUMMARY:ABC...Come Play with Me: Ice Cream!
UID:118796
DTSTAMP:20260424T082800Z
DTSTART:20260808T150000Z
DTEND:20260808T154500Z
LOCATION:North East Branch, 485 Mauldin Avenue, North East, MD 21901, Unit
 ed States
ROOM: North East Storytime Room
DESCRIPTION:A themed playtime emphasizing pre-literacy games, activities a
 nd toys. For families with children ages birth - 5. Registration opens 2 
 weeks prior to the program date.
URL:https://www.cecilcountylibrary.org/event/abccome-play-me-ice-cream-118
 796
END:VEVENT
END:VCALENDAR
