BEGIN:VCALENDAR
VERSION:2.0
PRODID:-//Library Market//iCal Export//EN
BEGIN:VEVENT
SUMMARY:1000 Books Before Kindergarten Celebration
UID:118797
DTSTAMP:20260424T093400Z
DTSTART:20260815T150000Z
DTEND:20260815T154500Z
LOCATION:North East Branch, 485 Mauldin Avenue, North East, MD 21901, Unit
 ed States
ROOM: North East Storytime Room
DESCRIPTION:Celebrate your progress in the 1,000 Books Before Kindergarten
  challenge by reading, singing, dancing, and making a fun craft! Ages birt
 h-5.Registration opens 2 weeks prior to the program date.
URL:https://www.cecilcountylibrary.org/event/1000-books-kindergarten-celeb
 ration-118797
END:VEVENT
END:VCALENDAR
