BEGIN:VCALENDAR
VERSION:2.0
PRODID:-//Library Market//iCal Export//EN
BEGIN:VEVENT
SUMMARY:3D Printing: Design It! Print It!
UID:118803
DTSTAMP:20260424T000400Z
DTSTART:20260617T193000Z
DTEND:20260617T203000Z
LOCATION:North East Branch, 485 Mauldin Avenue, North East, MD 21901, Unit
 ed States
ROOM: North East Creative Commons
DESCRIPTION:Explore the basics of 3D design using Tinkercad. Get to know t
 he Prusa Core One 3D Printer and take home your creation. This month, make
  custom keychains.Registration opens 2 weeks prior to the program date.
URL:https://www.cecilcountylibrary.org/event/3d-printing-design-it-print-i
 t-118803
END:VEVENT
END:VCALENDAR
