BEGIN:VCALENDAR
VERSION:2.0
PRODID:-//Library Market//iCal Export//EN
BEGIN:VEVENT
SUMMARY:Science Heroes: Experiment Lab
UID:118889
DTSTAMP:20260424T082800Z
DTSTART:20260805T220000Z
DTEND:20260805T230000Z
LOCATION:North East Branch, 485 Mauldin Avenue, North East, MD 21901, Unit
 ed States
ROOM: North East Meeting Room
DESCRIPTION:Discover the actions and reactions of physical science through
  hands on experiments and exciting STEM challenges. Grades 4-8. An interac
 tive science show presented by the Science Heroes. Registration opens 2 w
 eeks prior to the program date.
URL:https://www.cecilcountylibrary.org/event/science-heroes-experiment-lab
 -118889
END:VEVENT
END:VCALENDAR
