BEGIN:VCALENDAR
VERSION:2.0
PRODID:-//Library Market//iCal Export//EN
BEGIN:VEVENT
SUMMARY:Reptile Wonders: Beautiful Bugs
UID:119042
DTSTAMP:20260424T022900Z
DTSTART:20260701T193000Z
DTEND:20260701T203000Z
LOCATION:301 Newark Avenue, Elkton, MD 21921, United States
ROOM: Elkton Meeting Room
DESCRIPTION:Join Reptile Wonders: The Nature Center on the Go, for a hands
 -on interactive program featuring several different insects and arachnids.
  Learn where the animals are found, what they eat, what eats them, and som
 e unique characteristic about each bug. Grades 4-8. Registration opens tw
 o weeks prior to the program date. 
URL:https://www.cecilcountylibrary.org/event/reptile-wonders-beautiful-bug
 s-119042
END:VEVENT
END:VCALENDAR
