BEGIN:VCALENDAR
VERSION:2.0
PRODID:-//Library Market//iCal Export//EN
BEGIN:VEVENT
SUMMARY:Cozy Corner: Hobbies &amp; Crafts
UID:119326
DTSTAMP:20260424T041700Z
DTSTART:20260713T170000Z
DTEND:20260713T180000Z
LOCATION:301 Newark Avenue, Elkton, MD 21921, United States
ROOM: Elkton Meeting Room
DESCRIPTION:Curl up for a cozy hour of hobbies like crochet, bracelet maki
 ng, reading, and more! Bring a project or book you&#039;re already working
  on, or come to learn a new skill! All skill levels welcome. Grades 4-8.Re
 gistration opens 2 weeks prior to the program date. 
URL:https://www.cecilcountylibrary.org/event/cozy-corner-hobbies-crafts-11
 9326
END:VEVENT
END:VCALENDAR
