BEGIN:VCALENDAR
VERSION:2.0
PRODID:-//Library Market//iCal Export//EN
BEGIN:VEVENT
SUMMARY:Preschool Art: Dino DIY
UID:119328
DTSTAMP:20260424T034000Z
DTSTART:20260708T143000Z
DTEND:20260708T153000Z
LOCATION:301 Newark Avenue, Elkton, MD 21921, United States
ROOM: Elkton Meeting Room
DESCRIPTION:Get creative and have fun with dinosaur themed crafts and art!
  Ages 3-5. Registration opens two weeks prior to the program date. 
URL:https://www.cecilcountylibrary.org/event/preschool-art-dino-diy-119328
END:VEVENT
END:VCALENDAR
