BEGIN:VCALENDAR
VERSION:2.0
PRODID:-//Library Market//iCal Export//EN
BEGIN:VEVENT
SUMMARY:Pokémon Go! To the Library
UID:119355
DTSTAMP:20260424T082800Z
DTSTART:20260804T193000Z
DTEND:20260804T203000Z
LOCATION:301 Newark Avenue, Elkton, MD 21921, United States
ROOM: Elkton Meeting Room
DESCRIPTION:Meet other Pokémon Trainers, show off your favorites, create 
 your own Pokémon card, and maybe even battle. Teens will be able to spin 
 Pokémon Go stops at the library and maybe even work together to fight in 
 a raid! Grades 6-12. Registration opens two weeks prior to the program da
 te. 
URL:https://www.cecilcountylibrary.org/event/pokemon-go-library-119355
END:VEVENT
END:VCALENDAR
