BEGIN:VCALENDAR
VERSION:2.0
PRODID:-//Library Market//iCal Export//EN
BEGIN:VEVENT
SUMMARY:Starlight StoryTime: Dino Dreamers
UID:119386
DTSTAMP:20260424T082800Z
DTSTART:20260805T223000Z
DTEND:20260805T233000Z
LOCATION:301 Newark Avenue, Elkton, MD 21921, United States
ROOM: Elkton Meeting Room
DESCRIPTION:A special evening storytime with fingerplays, songs, stories, 
 and a craft. Pajamas encouraged. Ages 3-5. Registration opens two weeks p
 rior to the program date. 
URL:https://www.cecilcountylibrary.org/event/starlight-storytime-dino-drea
 mers-119386
END:VEVENT
END:VCALENDAR
