BEGIN:VCALENDAR
VERSION:2.0
PRODID:-//Library Market//iCal Export//EN
BEGIN:VEVENT
SUMMARY:How to Search for Jobs
UID:119613
DTSTAMP:20260421T004700Z
DTSTART:20260512T223000Z
DTEND:20260512T233000Z
LOCATION:485 Mauldin Ave, North East, MD 21901, United States
ROOM: North East Digital Media Lab
DESCRIPTION:Learn how to find nearby opportunities, avoid getting countles
 s job site emails, and prevent scams. 
URL:https://www.cecilcountylibrary.org/event/how-search-jobs-119613
END:VEVENT
END:VCALENDAR
