BEGIN:VCALENDAR
VERSION:2.0
PRODID:-//Library Market//iCal Export//EN
BEGIN:VEVENT
SUMMARY:Playdough Playdate
UID:119956
DTSTAMP:20260424T001100Z
DTSTART:20260620T143000Z
DTEND:20260620T153000Z
LOCATION:500 Coudon Blvd., Perryville, MD 21903, United States
ROOM: Perryville Meeting Room
DESCRIPTION:Join us for a fun, hands-on experience with playdough as we sq
 uish, roll, and mash using a variety of tools and textures. Ages birth-5.D
 rop in anytime during the program hour. Siblings welcome.Registration open
 s two weeks prior to the program date. 
URL:https://www.cecilcountylibrary.org/event/playdough-playdate-119956
END:VEVENT
END:VCALENDAR
