BEGIN:VCALENDAR
VERSION:2.0
PRODID:-//Library Market//iCal Export//EN
BEGIN:VEVENT
SUMMARY:PAWS for Reading
UID:119958
DTSTAMP:20260424T041700Z
DTSTART:20260722T223000Z
DTEND:20260722T233000Z
LOCATION:500 Coudon Blvd., Perryville, MD 21903, United States
ROOM: Perryville Meeting Room
DESCRIPTION:Practice your reading skills by reading one-on-one with a spec
 ially-trained therapy dog. Ages 4-11.Registration opens one month prior to
  the program date. 
URL:https://www.cecilcountylibrary.org/event/paws-reading-119958
END:VEVENT
END:VCALENDAR
