BEGIN:VCALENDAR
VERSION:2.0
PRODID:-//Library Market//iCal Export//EN
BEGIN:VEVENT
SUMMARY:Full STEAM Ahead! Cooking Together
UID:119970
DTSTAMP:20260424T020700Z
DTSTART:20260716T143000Z
DTEND:20260716T151500Z
LOCATION:500 Coudon Blvd., Perryville, MD 21903, United States
ROOM: Perryville Meeting Room
DESCRIPTION:This week, we will be making &quot;butterfly&quot; snacks with
  sunflower butter, celery, raisins, and pretzels. Enjoy different STEAM ac
 tivities each week in this hands-on program for young learners. Ages 2-4. 
 Siblings welcome.To attend multiple sessions, please register for each eve
 nt.Registration opens two weeks prior to the program date. 
URL:https://www.cecilcountylibrary.org/event/full-steam-ahead-119970
END:VEVENT
END:VCALENDAR
