BEGIN:VCALENDAR
VERSION:2.0
PRODID:-//Library Market//iCal Export//EN
BEGIN:VEVENT
SUMMARY:Full STEAM Ahead!
UID:119972
DTSTAMP:20260424T020700Z
DTSTART:20260730T143000Z
DTEND:20260730T151500Z
LOCATION:500 Coudon Blvd., Perryville, MD 21903, United States
ROOM: Perryville Meeting Room
DESCRIPTION:Enjoy different STEAM activities each week in this hands-on pr
 ogram for young learners. Program designed for children ages 2-4. Siblings
  welcome.To attend multiple sessions, please register for each event.Regis
 tration opens two weeks prior to the program date. 
URL:https://www.cecilcountylibrary.org/event/full-steam-ahead-119972
END:VEVENT
END:VCALENDAR
