BEGIN:VCALENDAR
VERSION:2.0
PRODID:-//Library Market//iCal Export//EN
BEGIN:VEVENT
SUMMARY:Family StoryTime
UID:120214
DTSTAMP:20260424T020700Z
DTSTART:20260722T143000Z
DTEND:20260722T153000Z
LOCATION:215 East Main Street, Cecilton, MD 21913, United States
ROOM: Cecilton Community Center (203 E Main Street)
DESCRIPTION:CCPL Story Times feature stories, rhymes, music, and play! For
  families with children ages birth-5.Registration opens two weeks prior to
  the program date. 
URL:https://www.cecilcountylibrary.org/event/family-storytime-120214
END:VEVENT
END:VCALENDAR
