BEGIN:VCALENDAR
VERSION:2.0
PRODID:-//Library Market//iCal Export//EN
BEGIN:VEVENT
SUMMARY:Family StoryTime
UID:120226
DTSTAMP:20260424T022900Z
DTSTART:20260730T143000Z
DTEND:20260730T153000Z
LOCATION:301 Newark Avenue, Elkton, MD 21921, United States
ROOM: Elkton Meeting Room
DESCRIPTION:CCPL StoryTimes feature stories, rhymes, music, and play! For 
 families with children ages birth-5. Stay and play afterwards.To attend mu
 ltiple sessions, please register for each event. Registration opens 2 week
 s prior to the program date. 
URL:https://www.cecilcountylibrary.org/event/family-storytime-120226
END:VEVENT
END:VCALENDAR
