BEGIN:VCALENDAR
VERSION:2.0
PRODID:-//Library Market//iCal Export//EN
BEGIN:VEVENT
SUMMARY:Reptile Wonders: Beautiful Bugs
UID:120241
DTSTAMP:20260424T022900Z
DTSTART:20260701T220000Z
DTEND:20260701T230000Z
LOCATION:111 Colonial Way, Rising Sun, MD 21911, United States
ROOM: Rising Sun Meeting Room
DESCRIPTION:Join Reptile Wonders: The Nature Center on the Go, for a hands
 -on interactive program featuring several different insects and arachnids.
  Learn where the animals are found, what they eat, what eats them, and som
 e unique characteristic about each bug. Grades 4-8. Registration opens tw
 o weeks prior to the program date. 
URL:https://www.cecilcountylibrary.org/event/reptile-wonders-beautiful-bug
 s-120241
END:VEVENT
END:VCALENDAR
